BEGIN:VCALENDAR
VERSION:2.0
PRODID:-//Art of Fitness - ECPv6.15.20//NONSGML v1.0//EN
CALSCALE:GREGORIAN
METHOD:PUBLISH
X-WR-CALNAME:Art of Fitness
X-ORIGINAL-URL:http://www.art-of-fitness.de
X-WR-CALDESC:Veranstaltungen für Art of Fitness
REFRESH-INTERVAL;VALUE=DURATION:PT1H
X-Robots-Tag:noindex
X-PUBLISHED-TTL:PT1H
BEGIN:VTIMEZONE
TZID:Europe/Berlin
BEGIN:DAYLIGHT
TZOFFSETFROM:+0100
TZOFFSETTO:+0200
TZNAME:CEST
DTSTART:20240331T010000
END:DAYLIGHT
BEGIN:STANDARD
TZOFFSETFROM:+0200
TZOFFSETTO:+0100
TZNAME:CET
DTSTART:20241027T010000
END:STANDARD
BEGIN:DAYLIGHT
TZOFFSETFROM:+0100
TZOFFSETTO:+0200
TZNAME:CEST
DTSTART:20250330T010000
END:DAYLIGHT
BEGIN:STANDARD
TZOFFSETFROM:+0200
TZOFFSETTO:+0100
TZNAME:CET
DTSTART:20251026T010000
END:STANDARD
BEGIN:DAYLIGHT
TZOFFSETFROM:+0100
TZOFFSETTO:+0200
TZNAME:CEST
DTSTART:20260329T010000
END:DAYLIGHT
BEGIN:STANDARD
TZOFFSETFROM:+0200
TZOFFSETTO:+0100
TZNAME:CET
DTSTART:20261025T010000
END:STANDARD
END:VTIMEZONE
BEGIN:VEVENT
DTSTART;TZID=Europe/Berlin:20250401T183000
DTEND;TZID=Europe/Berlin:20250401T190000
DTSTAMP:20260423T034122
CREATED:20231109T130905Z
LAST-MODIFIED:20241113T134731Z
UID:10006507-1743532200-1743534000@www.art-of-fitness.de
SUMMARY:Bauchkiller
DESCRIPTION:ist ein spezielles Training zum Aktivieren und Stärken der tiefliegenden Core Muskeln – Ebenso der Rücken-\, und der Beckenbodenmuskulatur.
URL:http://www.art-of-fitness.de/kurse/bauchkiller/2025-04-01/
LOCATION:Art of Fitness GmbH\, Maarweg 149-161\, Köln\, Deutschland\, 50825\, Deutschland
END:VEVENT
BEGIN:VEVENT
DTSTART;TZID=Europe/Berlin:20250402T180000
DTEND;TZID=Europe/Berlin:20250402T190000
DTSTAMP:20260423T034122
CREATED:20231107T120358Z
LAST-MODIFIED:20241113T133834Z
UID:10006195-1743616800-1743620400@www.art-of-fitness.de
SUMMARY:Functional Kurs
DESCRIPTION:
URL:http://www.art-of-fitness.de/kurse/functional-kurs/2025-04-02/
END:VEVENT
BEGIN:VEVENT
DTSTART;TZID=Europe/Berlin:20250402T190000
DTEND;TZID=Europe/Berlin:20250402T193000
DTSTAMP:20260423T034122
CREATED:20231107T114932Z
LAST-MODIFIED:20250806T121830Z
UID:10007346-1743620400-1743622200@www.art-of-fitness.de
SUMMARY:Bauchkiller
DESCRIPTION:ist ein spezielles Training zum Aktivieren und Stärken der tiefliegenden Core Muskeln – Ebenso der Rücken-\, und der Beckenbodenmuskulatur.
URL:http://www.art-of-fitness.de/kurse/jumping/2025-04-02/
LOCATION:Art of Fitness GmbH\, Maarweg 149-161\, Köln\, Deutschland\, 50825\, Deutschland
END:VEVENT
BEGIN:VEVENT
DTSTART;TZID=Europe/Berlin:20250403T190000
DTEND;TZID=Europe/Berlin:20250403T200000
DTSTAMP:20260423T034122
CREATED:20231107T120238Z
LAST-MODIFIED:20231109T104817Z
UID:10000076-1743706800-1743710400@www.art-of-fitness.de
SUMMARY:Iron Workout
DESCRIPTION:ist ein Langhantelprogramm zur Kräftigung\, Formung und Straffung des gesamten Körpers. Es ist es eine der schnellsten Methoden\, um in Form zu kommen.
URL:http://www.art-of-fitness.de/kurse/iron-workout/2025-04-03/
END:VEVENT
BEGIN:VEVENT
DTSTART;TZID=Europe/Berlin:20250403T200000
DTEND;TZID=Europe/Berlin:20250403T210000
DTSTAMP:20260423T034122
CREATED:20231109T110015Z
LAST-MODIFIED:20231109T110015Z
UID:10002170-1743710400-1743714000@www.art-of-fitness.de
SUMMARY:Yoga Balance
DESCRIPTION:ist eine Wohltat für Körper\, Geist und Seele mit einfachen Dehnübungen\, Bewegungen und Posen. Du kräftigst deinen gesamten Körper und verlässt den Kurs entspannt\, ausgeglichen und glücklich.
URL:http://www.art-of-fitness.de/kurse/yoga-balance/2025-04-03/
LOCATION:Art of Fitness GmbH\, Maarweg 149-161\, Köln\, Deutschland\, 50825\, Deutschland
END:VEVENT
BEGIN:VEVENT
DTSTART;TZID=Europe/Berlin:20250404T173000
DTEND;TZID=Europe/Berlin:20250404T190000
DTSTAMP:20260423T034122
CREATED:20231109T104453Z
LAST-MODIFIED:20231109T111017Z
UID:10001644-1743787800-1743793200@www.art-of-fitness.de
SUMMARY:Fitness Boxen für Frauen
DESCRIPTION:FITNESSBOXEN FRAUEN\n\n\n\n\nist ein Boxtraining für Frauen bei welchem Boxtechniken mit einem Fitnessprogramm kombiniert werden. Hierbei werden Pratzen und Boxsäcke im Training integriert.
URL:http://www.art-of-fitness.de/kurse/fitness-boxen-fuer-frauen/2025-04-04/
LOCATION:Art of Fitness GmbH\, Maarweg 149-161\, Köln\, Deutschland\, 50825\, Deutschland
END:VEVENT
BEGIN:VEVENT
DTSTART;TZID=Europe/Berlin:20250406T110000
DTEND;TZID=Europe/Berlin:20250406T120000
DTSTAMP:20260423T034122
CREATED:20231109T110618Z
LAST-MODIFIED:20231109T110618Z
UID:10002954-1743937200-1743940800@www.art-of-fitness.de
SUMMARY:Iron Workout
DESCRIPTION:ist ein Langhantelprogramm zur Kräftigung\, Formung und Straffung des gesamten Körpers. Es ist es eine der schnellsten Methoden\, um in Form zu kommen.
URL:http://www.art-of-fitness.de/kurse/iron-workout-3/2025-04-06/
LOCATION:Art of Fitness GmbH\, Maarweg 149-161\, Köln\, Deutschland\, 50825\, Deutschland
END:VEVENT
BEGIN:VEVENT
DTSTART;TZID=Europe/Berlin:20250406T120000
DTEND;TZID=Europe/Berlin:20250406T130000
DTSTAMP:20260423T034122
CREATED:20231109T110500Z
LAST-MODIFIED:20250212T115219Z
UID:10002693-1743940800-1743944400@www.art-of-fitness.de
SUMMARY:Jumping
DESCRIPTION:beim Jumping Fitness Workout sind über 400 Muskeln im Einsatz. Jumping Fitness schont gleichzeitig die Gelenke. Bauch\, Beine\, Po – Jumping Fitness stärkt alle Körperpartien. Außerdem verbessern die dynamischen Übungen deine Ausdauer.
URL:http://www.art-of-fitness.de/kurse/jumping-2/2025-04-06/
LOCATION:Art of Fitness GmbH\, Maarweg 149-161\, Köln\, Deutschland\, 50825\, Deutschland
END:VEVENT
BEGIN:VEVENT
DTSTART;TZID=Europe/Berlin:20250407T180000
DTEND;TZID=Europe/Berlin:20250407T190000
DTSTAMP:20260423T034122
CREATED:20231109T104911Z
LAST-MODIFIED:20231109T110719Z
UID:10001905-1744048800-1744052400@www.art-of-fitness.de
SUMMARY:Body Workout
DESCRIPTION:ist ein Training für Bauch\, Oberschenkel und Po und andere Muskelgruppen. Trainingsziel ist eine intensive Kräftigung und Straffung.
URL:http://www.art-of-fitness.de/kurse/iron-workout-2/2025-04-07/
LOCATION:Art of Fitness GmbH\, Maarweg 149-161\, Köln\, Deutschland\, 50825\, Deutschland
END:VEVENT
BEGIN:VEVENT
DTSTART;TZID=Europe/Berlin:20250407T190000
DTEND;TZID=Europe/Berlin:20250407T200000
DTSTAMP:20260423T034122
CREATED:20231109T110059Z
LAST-MODIFIED:20231109T110059Z
UID:10002432-1744052400-1744056000@www.art-of-fitness.de
SUMMARY:Yoga Balance
DESCRIPTION:ist eine Wohltat für Körper\, Geist und Seele mit einfachen Dehnübungen\, Bewegungen und Posen. Du kräftigst deinen gesamten Körper und verlässt den Kurs entspannt\, ausgeglichen und glücklich.
URL:http://www.art-of-fitness.de/kurse/yoga-balance-2/2025-04-07/
LOCATION:Art of Fitness GmbH\, Maarweg 149-161\, Köln\, Deutschland\, 50825\, Deutschland
END:VEVENT
BEGIN:VEVENT
DTSTART;TZID=Europe/Berlin:20250408T183000
DTEND;TZID=Europe/Berlin:20250408T190000
DTSTAMP:20260423T034122
CREATED:20231109T130905Z
LAST-MODIFIED:20241113T134731Z
UID:10006508-1744137000-1744138800@www.art-of-fitness.de
SUMMARY:Bauchkiller
DESCRIPTION:ist ein spezielles Training zum Aktivieren und Stärken der tiefliegenden Core Muskeln – Ebenso der Rücken-\, und der Beckenbodenmuskulatur.
URL:http://www.art-of-fitness.de/kurse/bauchkiller/2025-04-08/
LOCATION:Art of Fitness GmbH\, Maarweg 149-161\, Köln\, Deutschland\, 50825\, Deutschland
END:VEVENT
BEGIN:VEVENT
DTSTART;TZID=Europe/Berlin:20250409T180000
DTEND;TZID=Europe/Berlin:20250409T190000
DTSTAMP:20260423T034122
CREATED:20231107T120358Z
LAST-MODIFIED:20241113T133834Z
UID:10006196-1744221600-1744225200@www.art-of-fitness.de
SUMMARY:Functional Kurs
DESCRIPTION:
URL:http://www.art-of-fitness.de/kurse/functional-kurs/2025-04-09/
END:VEVENT
BEGIN:VEVENT
DTSTART;TZID=Europe/Berlin:20250409T190000
DTEND;TZID=Europe/Berlin:20250409T193000
DTSTAMP:20260423T034122
CREATED:20231107T114932Z
LAST-MODIFIED:20250806T121830Z
UID:10007347-1744225200-1744227000@www.art-of-fitness.de
SUMMARY:Bauchkiller
DESCRIPTION:ist ein spezielles Training zum Aktivieren und Stärken der tiefliegenden Core Muskeln – Ebenso der Rücken-\, und der Beckenbodenmuskulatur.
URL:http://www.art-of-fitness.de/kurse/jumping/2025-04-09/
LOCATION:Art of Fitness GmbH\, Maarweg 149-161\, Köln\, Deutschland\, 50825\, Deutschland
END:VEVENT
BEGIN:VEVENT
DTSTART;TZID=Europe/Berlin:20250410T190000
DTEND;TZID=Europe/Berlin:20250410T200000
DTSTAMP:20260423T034122
CREATED:20231107T120238Z
LAST-MODIFIED:20231109T104817Z
UID:10000077-1744311600-1744315200@www.art-of-fitness.de
SUMMARY:Iron Workout
DESCRIPTION:ist ein Langhantelprogramm zur Kräftigung\, Formung und Straffung des gesamten Körpers. Es ist es eine der schnellsten Methoden\, um in Form zu kommen.
URL:http://www.art-of-fitness.de/kurse/iron-workout/2025-04-10/
END:VEVENT
BEGIN:VEVENT
DTSTART;TZID=Europe/Berlin:20250410T200000
DTEND;TZID=Europe/Berlin:20250410T210000
DTSTAMP:20260423T034122
CREATED:20231109T110015Z
LAST-MODIFIED:20231109T110015Z
UID:10002171-1744315200-1744318800@www.art-of-fitness.de
SUMMARY:Yoga Balance
DESCRIPTION:ist eine Wohltat für Körper\, Geist und Seele mit einfachen Dehnübungen\, Bewegungen und Posen. Du kräftigst deinen gesamten Körper und verlässt den Kurs entspannt\, ausgeglichen und glücklich.
URL:http://www.art-of-fitness.de/kurse/yoga-balance/2025-04-10/
LOCATION:Art of Fitness GmbH\, Maarweg 149-161\, Köln\, Deutschland\, 50825\, Deutschland
END:VEVENT
BEGIN:VEVENT
DTSTART;TZID=Europe/Berlin:20250411T173000
DTEND;TZID=Europe/Berlin:20250411T190000
DTSTAMP:20260423T034122
CREATED:20231109T104453Z
LAST-MODIFIED:20231109T111017Z
UID:10001645-1744392600-1744398000@www.art-of-fitness.de
SUMMARY:Fitness Boxen für Frauen
DESCRIPTION:FITNESSBOXEN FRAUEN\n\n\n\n\nist ein Boxtraining für Frauen bei welchem Boxtechniken mit einem Fitnessprogramm kombiniert werden. Hierbei werden Pratzen und Boxsäcke im Training integriert.
URL:http://www.art-of-fitness.de/kurse/fitness-boxen-fuer-frauen/2025-04-11/
LOCATION:Art of Fitness GmbH\, Maarweg 149-161\, Köln\, Deutschland\, 50825\, Deutschland
END:VEVENT
BEGIN:VEVENT
DTSTART;TZID=Europe/Berlin:20250413T110000
DTEND;TZID=Europe/Berlin:20250413T120000
DTSTAMP:20260423T034122
CREATED:20231109T110618Z
LAST-MODIFIED:20231109T110618Z
UID:10002955-1744542000-1744545600@www.art-of-fitness.de
SUMMARY:Iron Workout
DESCRIPTION:ist ein Langhantelprogramm zur Kräftigung\, Formung und Straffung des gesamten Körpers. Es ist es eine der schnellsten Methoden\, um in Form zu kommen.
URL:http://www.art-of-fitness.de/kurse/iron-workout-3/2025-04-13/
LOCATION:Art of Fitness GmbH\, Maarweg 149-161\, Köln\, Deutschland\, 50825\, Deutschland
END:VEVENT
BEGIN:VEVENT
DTSTART;TZID=Europe/Berlin:20250413T120000
DTEND;TZID=Europe/Berlin:20250413T130000
DTSTAMP:20260423T034122
CREATED:20231109T110500Z
LAST-MODIFIED:20250212T115219Z
UID:10002694-1744545600-1744549200@www.art-of-fitness.de
SUMMARY:Jumping
DESCRIPTION:beim Jumping Fitness Workout sind über 400 Muskeln im Einsatz. Jumping Fitness schont gleichzeitig die Gelenke. Bauch\, Beine\, Po – Jumping Fitness stärkt alle Körperpartien. Außerdem verbessern die dynamischen Übungen deine Ausdauer.
URL:http://www.art-of-fitness.de/kurse/jumping-2/2025-04-13/
LOCATION:Art of Fitness GmbH\, Maarweg 149-161\, Köln\, Deutschland\, 50825\, Deutschland
END:VEVENT
BEGIN:VEVENT
DTSTART;TZID=Europe/Berlin:20250414T180000
DTEND;TZID=Europe/Berlin:20250414T190000
DTSTAMP:20260423T034122
CREATED:20231109T104911Z
LAST-MODIFIED:20231109T110719Z
UID:10001906-1744653600-1744657200@www.art-of-fitness.de
SUMMARY:Body Workout
DESCRIPTION:ist ein Training für Bauch\, Oberschenkel und Po und andere Muskelgruppen. Trainingsziel ist eine intensive Kräftigung und Straffung.
URL:http://www.art-of-fitness.de/kurse/iron-workout-2/2025-04-14/
LOCATION:Art of Fitness GmbH\, Maarweg 149-161\, Köln\, Deutschland\, 50825\, Deutschland
END:VEVENT
BEGIN:VEVENT
DTSTART;TZID=Europe/Berlin:20250414T190000
DTEND;TZID=Europe/Berlin:20250414T200000
DTSTAMP:20260423T034122
CREATED:20231109T110059Z
LAST-MODIFIED:20231109T110059Z
UID:10002433-1744657200-1744660800@www.art-of-fitness.de
SUMMARY:Yoga Balance
DESCRIPTION:ist eine Wohltat für Körper\, Geist und Seele mit einfachen Dehnübungen\, Bewegungen und Posen. Du kräftigst deinen gesamten Körper und verlässt den Kurs entspannt\, ausgeglichen und glücklich.
URL:http://www.art-of-fitness.de/kurse/yoga-balance-2/2025-04-14/
LOCATION:Art of Fitness GmbH\, Maarweg 149-161\, Köln\, Deutschland\, 50825\, Deutschland
END:VEVENT
BEGIN:VEVENT
DTSTART;TZID=Europe/Berlin:20250415T183000
DTEND;TZID=Europe/Berlin:20250415T190000
DTSTAMP:20260423T034122
CREATED:20231109T130905Z
LAST-MODIFIED:20241113T134731Z
UID:10006509-1744741800-1744743600@www.art-of-fitness.de
SUMMARY:Bauchkiller
DESCRIPTION:ist ein spezielles Training zum Aktivieren und Stärken der tiefliegenden Core Muskeln – Ebenso der Rücken-\, und der Beckenbodenmuskulatur.
URL:http://www.art-of-fitness.de/kurse/bauchkiller/2025-04-15/
LOCATION:Art of Fitness GmbH\, Maarweg 149-161\, Köln\, Deutschland\, 50825\, Deutschland
END:VEVENT
BEGIN:VEVENT
DTSTART;TZID=Europe/Berlin:20250416T180000
DTEND;TZID=Europe/Berlin:20250416T190000
DTSTAMP:20260423T034122
CREATED:20231107T120358Z
LAST-MODIFIED:20241113T133834Z
UID:10006197-1744826400-1744830000@www.art-of-fitness.de
SUMMARY:Functional Kurs
DESCRIPTION:
URL:http://www.art-of-fitness.de/kurse/functional-kurs/2025-04-16/
END:VEVENT
BEGIN:VEVENT
DTSTART;TZID=Europe/Berlin:20250416T190000
DTEND;TZID=Europe/Berlin:20250416T193000
DTSTAMP:20260423T034122
CREATED:20231107T114932Z
LAST-MODIFIED:20250806T121830Z
UID:10007348-1744830000-1744831800@www.art-of-fitness.de
SUMMARY:Bauchkiller
DESCRIPTION:ist ein spezielles Training zum Aktivieren und Stärken der tiefliegenden Core Muskeln – Ebenso der Rücken-\, und der Beckenbodenmuskulatur.
URL:http://www.art-of-fitness.de/kurse/jumping/2025-04-16/
LOCATION:Art of Fitness GmbH\, Maarweg 149-161\, Köln\, Deutschland\, 50825\, Deutschland
END:VEVENT
BEGIN:VEVENT
DTSTART;TZID=Europe/Berlin:20250417T190000
DTEND;TZID=Europe/Berlin:20250417T200000
DTSTAMP:20260423T034122
CREATED:20231107T120238Z
LAST-MODIFIED:20231109T104817Z
UID:10000078-1744916400-1744920000@www.art-of-fitness.de
SUMMARY:Iron Workout
DESCRIPTION:ist ein Langhantelprogramm zur Kräftigung\, Formung und Straffung des gesamten Körpers. Es ist es eine der schnellsten Methoden\, um in Form zu kommen.
URL:http://www.art-of-fitness.de/kurse/iron-workout/2025-04-17/
END:VEVENT
BEGIN:VEVENT
DTSTART;TZID=Europe/Berlin:20250417T200000
DTEND;TZID=Europe/Berlin:20250417T210000
DTSTAMP:20260423T034122
CREATED:20231109T110015Z
LAST-MODIFIED:20231109T110015Z
UID:10002172-1744920000-1744923600@www.art-of-fitness.de
SUMMARY:Yoga Balance
DESCRIPTION:ist eine Wohltat für Körper\, Geist und Seele mit einfachen Dehnübungen\, Bewegungen und Posen. Du kräftigst deinen gesamten Körper und verlässt den Kurs entspannt\, ausgeglichen und glücklich.
URL:http://www.art-of-fitness.de/kurse/yoga-balance/2025-04-17/
LOCATION:Art of Fitness GmbH\, Maarweg 149-161\, Köln\, Deutschland\, 50825\, Deutschland
END:VEVENT
BEGIN:VEVENT
DTSTART;TZID=Europe/Berlin:20250418T173000
DTEND;TZID=Europe/Berlin:20250418T190000
DTSTAMP:20260423T034122
CREATED:20231109T104453Z
LAST-MODIFIED:20231109T111017Z
UID:10001646-1744997400-1745002800@www.art-of-fitness.de
SUMMARY:Fitness Boxen für Frauen
DESCRIPTION:FITNESSBOXEN FRAUEN\n\n\n\n\nist ein Boxtraining für Frauen bei welchem Boxtechniken mit einem Fitnessprogramm kombiniert werden. Hierbei werden Pratzen und Boxsäcke im Training integriert.
URL:http://www.art-of-fitness.de/kurse/fitness-boxen-fuer-frauen/2025-04-18/
LOCATION:Art of Fitness GmbH\, Maarweg 149-161\, Köln\, Deutschland\, 50825\, Deutschland
END:VEVENT
BEGIN:VEVENT
DTSTART;TZID=Europe/Berlin:20250420T110000
DTEND;TZID=Europe/Berlin:20250420T120000
DTSTAMP:20260423T034122
CREATED:20231109T110618Z
LAST-MODIFIED:20231109T110618Z
UID:10002956-1745146800-1745150400@www.art-of-fitness.de
SUMMARY:Iron Workout
DESCRIPTION:ist ein Langhantelprogramm zur Kräftigung\, Formung und Straffung des gesamten Körpers. Es ist es eine der schnellsten Methoden\, um in Form zu kommen.
URL:http://www.art-of-fitness.de/kurse/iron-workout-3/2025-04-20/
LOCATION:Art of Fitness GmbH\, Maarweg 149-161\, Köln\, Deutschland\, 50825\, Deutschland
END:VEVENT
BEGIN:VEVENT
DTSTART;TZID=Europe/Berlin:20250420T120000
DTEND;TZID=Europe/Berlin:20250420T130000
DTSTAMP:20260423T034122
CREATED:20231109T110500Z
LAST-MODIFIED:20250212T115219Z
UID:10002695-1745150400-1745154000@www.art-of-fitness.de
SUMMARY:Jumping
DESCRIPTION:beim Jumping Fitness Workout sind über 400 Muskeln im Einsatz. Jumping Fitness schont gleichzeitig die Gelenke. Bauch\, Beine\, Po – Jumping Fitness stärkt alle Körperpartien. Außerdem verbessern die dynamischen Übungen deine Ausdauer.
URL:http://www.art-of-fitness.de/kurse/jumping-2/2025-04-20/
LOCATION:Art of Fitness GmbH\, Maarweg 149-161\, Köln\, Deutschland\, 50825\, Deutschland
END:VEVENT
BEGIN:VEVENT
DTSTART;TZID=Europe/Berlin:20250421T180000
DTEND;TZID=Europe/Berlin:20250421T190000
DTSTAMP:20260423T034122
CREATED:20231109T104911Z
LAST-MODIFIED:20231109T110719Z
UID:10001907-1745258400-1745262000@www.art-of-fitness.de
SUMMARY:Body Workout
DESCRIPTION:ist ein Training für Bauch\, Oberschenkel und Po und andere Muskelgruppen. Trainingsziel ist eine intensive Kräftigung und Straffung.
URL:http://www.art-of-fitness.de/kurse/iron-workout-2/2025-04-21/
LOCATION:Art of Fitness GmbH\, Maarweg 149-161\, Köln\, Deutschland\, 50825\, Deutschland
END:VEVENT
BEGIN:VEVENT
DTSTART;TZID=Europe/Berlin:20250421T190000
DTEND;TZID=Europe/Berlin:20250421T200000
DTSTAMP:20260423T034122
CREATED:20231109T110059Z
LAST-MODIFIED:20231109T110059Z
UID:10002434-1745262000-1745265600@www.art-of-fitness.de
SUMMARY:Yoga Balance
DESCRIPTION:ist eine Wohltat für Körper\, Geist und Seele mit einfachen Dehnübungen\, Bewegungen und Posen. Du kräftigst deinen gesamten Körper und verlässt den Kurs entspannt\, ausgeglichen und glücklich.
URL:http://www.art-of-fitness.de/kurse/yoga-balance-2/2025-04-21/
LOCATION:Art of Fitness GmbH\, Maarweg 149-161\, Köln\, Deutschland\, 50825\, Deutschland
END:VEVENT
END:VCALENDAR