BEGIN:VCALENDAR
VERSION:2.0
PRODID:-//Art of Fitness - ECPv6.15.20//NONSGML v1.0//EN
CALSCALE:GREGORIAN
METHOD:PUBLISH
X-WR-CALNAME:Art of Fitness
X-ORIGINAL-URL:http://www.art-of-fitness.de
X-WR-CALDESC:Veranstaltungen für Art of Fitness
REFRESH-INTERVAL;VALUE=DURATION:PT1H
X-Robots-Tag:noindex
X-PUBLISHED-TTL:PT1H
BEGIN:VTIMEZONE
TZID:Europe/Berlin
BEGIN:DAYLIGHT
TZOFFSETFROM:+0100
TZOFFSETTO:+0200
TZNAME:CEST
DTSTART:20230326T010000
END:DAYLIGHT
BEGIN:STANDARD
TZOFFSETFROM:+0200
TZOFFSETTO:+0100
TZNAME:CET
DTSTART:20231029T010000
END:STANDARD
BEGIN:DAYLIGHT
TZOFFSETFROM:+0100
TZOFFSETTO:+0200
TZNAME:CEST
DTSTART:20240331T010000
END:DAYLIGHT
BEGIN:STANDARD
TZOFFSETFROM:+0200
TZOFFSETTO:+0100
TZNAME:CET
DTSTART:20241027T010000
END:STANDARD
BEGIN:DAYLIGHT
TZOFFSETFROM:+0100
TZOFFSETTO:+0200
TZNAME:CEST
DTSTART:20250330T010000
END:DAYLIGHT
BEGIN:STANDARD
TZOFFSETFROM:+0200
TZOFFSETTO:+0100
TZNAME:CET
DTSTART:20251026T010000
END:STANDARD
END:VTIMEZONE
BEGIN:VEVENT
DTSTART;TZID=Europe/Berlin:20240801T190000
DTEND;TZID=Europe/Berlin:20240801T200000
DTSTAMP:20260422T132027
CREATED:20231107T120238Z
LAST-MODIFIED:20231109T104817Z
UID:10000041-1722538800-1722542400@www.art-of-fitness.de
SUMMARY:Iron Workout
DESCRIPTION:ist ein Langhantelprogramm zur Kräftigung\, Formung und Straffung des gesamten Körpers. Es ist es eine der schnellsten Methoden\, um in Form zu kommen.
URL:http://www.art-of-fitness.de/kurse/iron-workout/2024-08-01/
END:VEVENT
BEGIN:VEVENT
DTSTART;TZID=Europe/Berlin:20240801T200000
DTEND;TZID=Europe/Berlin:20240801T210000
DTSTAMP:20260422T132027
CREATED:20231109T110015Z
LAST-MODIFIED:20231109T110015Z
UID:10002135-1722542400-1722546000@www.art-of-fitness.de
SUMMARY:Yoga Balance
DESCRIPTION:ist eine Wohltat für Körper\, Geist und Seele mit einfachen Dehnübungen\, Bewegungen und Posen. Du kräftigst deinen gesamten Körper und verlässt den Kurs entspannt\, ausgeglichen und glücklich.
URL:http://www.art-of-fitness.de/kurse/yoga-balance/2024-08-01/
LOCATION:Art of Fitness GmbH\, Maarweg 149-161\, Köln\, Deutschland\, 50825\, Deutschland
END:VEVENT
BEGIN:VEVENT
DTSTART;TZID=Europe/Berlin:20240802T173000
DTEND;TZID=Europe/Berlin:20240802T190000
DTSTAMP:20260422T132027
CREATED:20231109T104453Z
LAST-MODIFIED:20231109T111017Z
UID:10001609-1722619800-1722625200@www.art-of-fitness.de
SUMMARY:Fitness Boxen für Frauen
DESCRIPTION:FITNESSBOXEN FRAUEN\n\n\n\n\nist ein Boxtraining für Frauen bei welchem Boxtechniken mit einem Fitnessprogramm kombiniert werden. Hierbei werden Pratzen und Boxsäcke im Training integriert.
URL:http://www.art-of-fitness.de/kurse/fitness-boxen-fuer-frauen/2024-08-02/
LOCATION:Art of Fitness GmbH\, Maarweg 149-161\, Köln\, Deutschland\, 50825\, Deutschland
END:VEVENT
BEGIN:VEVENT
DTSTART;TZID=Europe/Berlin:20240804T110000
DTEND;TZID=Europe/Berlin:20240804T120000
DTSTAMP:20260422T132027
CREATED:20231109T110618Z
LAST-MODIFIED:20231109T110618Z
UID:10002919-1722769200-1722772800@www.art-of-fitness.de
SUMMARY:Iron Workout
DESCRIPTION:ist ein Langhantelprogramm zur Kräftigung\, Formung und Straffung des gesamten Körpers. Es ist es eine der schnellsten Methoden\, um in Form zu kommen.
URL:http://www.art-of-fitness.de/kurse/iron-workout-3/2024-08-04/
LOCATION:Art of Fitness GmbH\, Maarweg 149-161\, Köln\, Deutschland\, 50825\, Deutschland
END:VEVENT
BEGIN:VEVENT
DTSTART;TZID=Europe/Berlin:20240804T120000
DTEND;TZID=Europe/Berlin:20240804T130000
DTSTAMP:20260422T132027
CREATED:20231109T110500Z
LAST-MODIFIED:20250212T115219Z
UID:10002658-1722772800-1722776400@www.art-of-fitness.de
SUMMARY:Jumping
DESCRIPTION:beim Jumping Fitness Workout sind über 400 Muskeln im Einsatz. Jumping Fitness schont gleichzeitig die Gelenke. Bauch\, Beine\, Po – Jumping Fitness stärkt alle Körperpartien. Außerdem verbessern die dynamischen Übungen deine Ausdauer.
URL:http://www.art-of-fitness.de/kurse/jumping-2/2024-08-04/
LOCATION:Art of Fitness GmbH\, Maarweg 149-161\, Köln\, Deutschland\, 50825\, Deutschland
END:VEVENT
BEGIN:VEVENT
DTSTART;TZID=Europe/Berlin:20240805T180000
DTEND;TZID=Europe/Berlin:20240805T190000
DTSTAMP:20260422T132027
CREATED:20231109T104911Z
LAST-MODIFIED:20231109T110719Z
UID:10001870-1722880800-1722884400@www.art-of-fitness.de
SUMMARY:Body Workout
DESCRIPTION:ist ein Training für Bauch\, Oberschenkel und Po und andere Muskelgruppen. Trainingsziel ist eine intensive Kräftigung und Straffung.
URL:http://www.art-of-fitness.de/kurse/iron-workout-2/2024-08-05/
LOCATION:Art of Fitness GmbH\, Maarweg 149-161\, Köln\, Deutschland\, 50825\, Deutschland
END:VEVENT
BEGIN:VEVENT
DTSTART;TZID=Europe/Berlin:20240805T190000
DTEND;TZID=Europe/Berlin:20240805T200000
DTSTAMP:20260422T132027
CREATED:20231109T110059Z
LAST-MODIFIED:20231109T110059Z
UID:10002397-1722884400-1722888000@www.art-of-fitness.de
SUMMARY:Yoga Balance
DESCRIPTION:ist eine Wohltat für Körper\, Geist und Seele mit einfachen Dehnübungen\, Bewegungen und Posen. Du kräftigst deinen gesamten Körper und verlässt den Kurs entspannt\, ausgeglichen und glücklich.
URL:http://www.art-of-fitness.de/kurse/yoga-balance-2/2024-08-05/
LOCATION:Art of Fitness GmbH\, Maarweg 149-161\, Köln\, Deutschland\, 50825\, Deutschland
END:VEVENT
BEGIN:VEVENT
DTSTART;TZID=Europe/Berlin:20240806T183000
DTEND;TZID=Europe/Berlin:20240806T190000
DTSTAMP:20260422T132027
CREATED:20231109T130905Z
LAST-MODIFIED:20241113T134731Z
UID:10006473-1722969000-1722970800@www.art-of-fitness.de
SUMMARY:Bauchkiller
DESCRIPTION:ist ein spezielles Training zum Aktivieren und Stärken der tiefliegenden Core Muskeln – Ebenso der Rücken-\, und der Beckenbodenmuskulatur.
URL:http://www.art-of-fitness.de/kurse/bauchkiller/2024-08-06/
LOCATION:Art of Fitness GmbH\, Maarweg 149-161\, Köln\, Deutschland\, 50825\, Deutschland
END:VEVENT
BEGIN:VEVENT
DTSTART;TZID=Europe/Berlin:20240807T180000
DTEND;TZID=Europe/Berlin:20240807T190000
DTSTAMP:20260422T132027
CREATED:20231107T120358Z
LAST-MODIFIED:20241113T133834Z
UID:10006161-1723053600-1723057200@www.art-of-fitness.de
SUMMARY:Functional Kurs
DESCRIPTION:
URL:http://www.art-of-fitness.de/kurse/functional-kurs/2024-08-07/
END:VEVENT
BEGIN:VEVENT
DTSTART;TZID=Europe/Berlin:20240807T190000
DTEND;TZID=Europe/Berlin:20240807T193000
DTSTAMP:20260422T132027
CREATED:20231107T114932Z
LAST-MODIFIED:20250806T121830Z
UID:10007312-1723057200-1723059000@www.art-of-fitness.de
SUMMARY:Bauchkiller
DESCRIPTION:ist ein spezielles Training zum Aktivieren und Stärken der tiefliegenden Core Muskeln – Ebenso der Rücken-\, und der Beckenbodenmuskulatur.
URL:http://www.art-of-fitness.de/kurse/jumping/2024-08-07/
LOCATION:Art of Fitness GmbH\, Maarweg 149-161\, Köln\, Deutschland\, 50825\, Deutschland
END:VEVENT
BEGIN:VEVENT
DTSTART;TZID=Europe/Berlin:20240808T190000
DTEND;TZID=Europe/Berlin:20240808T200000
DTSTAMP:20260422T132027
CREATED:20231107T120238Z
LAST-MODIFIED:20231109T104817Z
UID:10000042-1723143600-1723147200@www.art-of-fitness.de
SUMMARY:Iron Workout
DESCRIPTION:ist ein Langhantelprogramm zur Kräftigung\, Formung und Straffung des gesamten Körpers. Es ist es eine der schnellsten Methoden\, um in Form zu kommen.
URL:http://www.art-of-fitness.de/kurse/iron-workout/2024-08-08/
END:VEVENT
BEGIN:VEVENT
DTSTART;TZID=Europe/Berlin:20240808T200000
DTEND;TZID=Europe/Berlin:20240808T210000
DTSTAMP:20260422T132027
CREATED:20231109T110015Z
LAST-MODIFIED:20231109T110015Z
UID:10002136-1723147200-1723150800@www.art-of-fitness.de
SUMMARY:Yoga Balance
DESCRIPTION:ist eine Wohltat für Körper\, Geist und Seele mit einfachen Dehnübungen\, Bewegungen und Posen. Du kräftigst deinen gesamten Körper und verlässt den Kurs entspannt\, ausgeglichen und glücklich.
URL:http://www.art-of-fitness.de/kurse/yoga-balance/2024-08-08/
LOCATION:Art of Fitness GmbH\, Maarweg 149-161\, Köln\, Deutschland\, 50825\, Deutschland
END:VEVENT
BEGIN:VEVENT
DTSTART;TZID=Europe/Berlin:20240809T173000
DTEND;TZID=Europe/Berlin:20240809T190000
DTSTAMP:20260422T132027
CREATED:20231109T104453Z
LAST-MODIFIED:20231109T111017Z
UID:10001610-1723224600-1723230000@www.art-of-fitness.de
SUMMARY:Fitness Boxen für Frauen
DESCRIPTION:FITNESSBOXEN FRAUEN\n\n\n\n\nist ein Boxtraining für Frauen bei welchem Boxtechniken mit einem Fitnessprogramm kombiniert werden. Hierbei werden Pratzen und Boxsäcke im Training integriert.
URL:http://www.art-of-fitness.de/kurse/fitness-boxen-fuer-frauen/2024-08-09/
LOCATION:Art of Fitness GmbH\, Maarweg 149-161\, Köln\, Deutschland\, 50825\, Deutschland
END:VEVENT
BEGIN:VEVENT
DTSTART;TZID=Europe/Berlin:20240811T110000
DTEND;TZID=Europe/Berlin:20240811T120000
DTSTAMP:20260422T132027
CREATED:20231109T110618Z
LAST-MODIFIED:20231109T110618Z
UID:10002920-1723374000-1723377600@www.art-of-fitness.de
SUMMARY:Iron Workout
DESCRIPTION:ist ein Langhantelprogramm zur Kräftigung\, Formung und Straffung des gesamten Körpers. Es ist es eine der schnellsten Methoden\, um in Form zu kommen.
URL:http://www.art-of-fitness.de/kurse/iron-workout-3/2024-08-11/
LOCATION:Art of Fitness GmbH\, Maarweg 149-161\, Köln\, Deutschland\, 50825\, Deutschland
END:VEVENT
BEGIN:VEVENT
DTSTART;TZID=Europe/Berlin:20240811T120000
DTEND;TZID=Europe/Berlin:20240811T130000
DTSTAMP:20260422T132027
CREATED:20231109T110500Z
LAST-MODIFIED:20250212T115219Z
UID:10002659-1723377600-1723381200@www.art-of-fitness.de
SUMMARY:Jumping
DESCRIPTION:beim Jumping Fitness Workout sind über 400 Muskeln im Einsatz. Jumping Fitness schont gleichzeitig die Gelenke. Bauch\, Beine\, Po – Jumping Fitness stärkt alle Körperpartien. Außerdem verbessern die dynamischen Übungen deine Ausdauer.
URL:http://www.art-of-fitness.de/kurse/jumping-2/2024-08-11/
LOCATION:Art of Fitness GmbH\, Maarweg 149-161\, Köln\, Deutschland\, 50825\, Deutschland
END:VEVENT
BEGIN:VEVENT
DTSTART;TZID=Europe/Berlin:20240812T180000
DTEND;TZID=Europe/Berlin:20240812T190000
DTSTAMP:20260422T132027
CREATED:20231109T104911Z
LAST-MODIFIED:20231109T110719Z
UID:10001871-1723485600-1723489200@www.art-of-fitness.de
SUMMARY:Body Workout
DESCRIPTION:ist ein Training für Bauch\, Oberschenkel und Po und andere Muskelgruppen. Trainingsziel ist eine intensive Kräftigung und Straffung.
URL:http://www.art-of-fitness.de/kurse/iron-workout-2/2024-08-12/
LOCATION:Art of Fitness GmbH\, Maarweg 149-161\, Köln\, Deutschland\, 50825\, Deutschland
END:VEVENT
BEGIN:VEVENT
DTSTART;TZID=Europe/Berlin:20240812T190000
DTEND;TZID=Europe/Berlin:20240812T200000
DTSTAMP:20260422T132027
CREATED:20231109T110059Z
LAST-MODIFIED:20231109T110059Z
UID:10002398-1723489200-1723492800@www.art-of-fitness.de
SUMMARY:Yoga Balance
DESCRIPTION:ist eine Wohltat für Körper\, Geist und Seele mit einfachen Dehnübungen\, Bewegungen und Posen. Du kräftigst deinen gesamten Körper und verlässt den Kurs entspannt\, ausgeglichen und glücklich.
URL:http://www.art-of-fitness.de/kurse/yoga-balance-2/2024-08-12/
LOCATION:Art of Fitness GmbH\, Maarweg 149-161\, Köln\, Deutschland\, 50825\, Deutschland
END:VEVENT
BEGIN:VEVENT
DTSTART;TZID=Europe/Berlin:20240813T183000
DTEND;TZID=Europe/Berlin:20240813T190000
DTSTAMP:20260422T132027
CREATED:20231109T130905Z
LAST-MODIFIED:20241113T134731Z
UID:10006474-1723573800-1723575600@www.art-of-fitness.de
SUMMARY:Bauchkiller
DESCRIPTION:ist ein spezielles Training zum Aktivieren und Stärken der tiefliegenden Core Muskeln – Ebenso der Rücken-\, und der Beckenbodenmuskulatur.
URL:http://www.art-of-fitness.de/kurse/bauchkiller/2024-08-13/
LOCATION:Art of Fitness GmbH\, Maarweg 149-161\, Köln\, Deutschland\, 50825\, Deutschland
END:VEVENT
BEGIN:VEVENT
DTSTART;TZID=Europe/Berlin:20240814T180000
DTEND;TZID=Europe/Berlin:20240814T190000
DTSTAMP:20260422T132027
CREATED:20231107T120358Z
LAST-MODIFIED:20241113T133834Z
UID:10006162-1723658400-1723662000@www.art-of-fitness.de
SUMMARY:Functional Kurs
DESCRIPTION:
URL:http://www.art-of-fitness.de/kurse/functional-kurs/2024-08-14/
END:VEVENT
BEGIN:VEVENT
DTSTART;TZID=Europe/Berlin:20240814T190000
DTEND;TZID=Europe/Berlin:20240814T193000
DTSTAMP:20260422T132027
CREATED:20231107T114932Z
LAST-MODIFIED:20250806T121830Z
UID:10007313-1723662000-1723663800@www.art-of-fitness.de
SUMMARY:Bauchkiller
DESCRIPTION:ist ein spezielles Training zum Aktivieren und Stärken der tiefliegenden Core Muskeln – Ebenso der Rücken-\, und der Beckenbodenmuskulatur.
URL:http://www.art-of-fitness.de/kurse/jumping/2024-08-14/
LOCATION:Art of Fitness GmbH\, Maarweg 149-161\, Köln\, Deutschland\, 50825\, Deutschland
END:VEVENT
BEGIN:VEVENT
DTSTART;TZID=Europe/Berlin:20240815T190000
DTEND;TZID=Europe/Berlin:20240815T200000
DTSTAMP:20260422T132027
CREATED:20231107T120238Z
LAST-MODIFIED:20231109T104817Z
UID:10000043-1723748400-1723752000@www.art-of-fitness.de
SUMMARY:Iron Workout
DESCRIPTION:ist ein Langhantelprogramm zur Kräftigung\, Formung und Straffung des gesamten Körpers. Es ist es eine der schnellsten Methoden\, um in Form zu kommen.
URL:http://www.art-of-fitness.de/kurse/iron-workout/2024-08-15/
END:VEVENT
BEGIN:VEVENT
DTSTART;TZID=Europe/Berlin:20240815T200000
DTEND;TZID=Europe/Berlin:20240815T210000
DTSTAMP:20260422T132027
CREATED:20231109T110015Z
LAST-MODIFIED:20231109T110015Z
UID:10002137-1723752000-1723755600@www.art-of-fitness.de
SUMMARY:Yoga Balance
DESCRIPTION:ist eine Wohltat für Körper\, Geist und Seele mit einfachen Dehnübungen\, Bewegungen und Posen. Du kräftigst deinen gesamten Körper und verlässt den Kurs entspannt\, ausgeglichen und glücklich.
URL:http://www.art-of-fitness.de/kurse/yoga-balance/2024-08-15/
LOCATION:Art of Fitness GmbH\, Maarweg 149-161\, Köln\, Deutschland\, 50825\, Deutschland
END:VEVENT
BEGIN:VEVENT
DTSTART;TZID=Europe/Berlin:20240816T173000
DTEND;TZID=Europe/Berlin:20240816T190000
DTSTAMP:20260422T132027
CREATED:20231109T104453Z
LAST-MODIFIED:20231109T111017Z
UID:10001611-1723829400-1723834800@www.art-of-fitness.de
SUMMARY:Fitness Boxen für Frauen
DESCRIPTION:FITNESSBOXEN FRAUEN\n\n\n\n\nist ein Boxtraining für Frauen bei welchem Boxtechniken mit einem Fitnessprogramm kombiniert werden. Hierbei werden Pratzen und Boxsäcke im Training integriert.
URL:http://www.art-of-fitness.de/kurse/fitness-boxen-fuer-frauen/2024-08-16/
LOCATION:Art of Fitness GmbH\, Maarweg 149-161\, Köln\, Deutschland\, 50825\, Deutschland
END:VEVENT
BEGIN:VEVENT
DTSTART;TZID=Europe/Berlin:20240818T110000
DTEND;TZID=Europe/Berlin:20240818T120000
DTSTAMP:20260422T132027
CREATED:20231109T110618Z
LAST-MODIFIED:20231109T110618Z
UID:10002921-1723978800-1723982400@www.art-of-fitness.de
SUMMARY:Iron Workout
DESCRIPTION:ist ein Langhantelprogramm zur Kräftigung\, Formung und Straffung des gesamten Körpers. Es ist es eine der schnellsten Methoden\, um in Form zu kommen.
URL:http://www.art-of-fitness.de/kurse/iron-workout-3/2024-08-18/
LOCATION:Art of Fitness GmbH\, Maarweg 149-161\, Köln\, Deutschland\, 50825\, Deutschland
END:VEVENT
BEGIN:VEVENT
DTSTART;TZID=Europe/Berlin:20240818T120000
DTEND;TZID=Europe/Berlin:20240818T130000
DTSTAMP:20260422T132027
CREATED:20231109T110500Z
LAST-MODIFIED:20250212T115219Z
UID:10002660-1723982400-1723986000@www.art-of-fitness.de
SUMMARY:Jumping
DESCRIPTION:beim Jumping Fitness Workout sind über 400 Muskeln im Einsatz. Jumping Fitness schont gleichzeitig die Gelenke. Bauch\, Beine\, Po – Jumping Fitness stärkt alle Körperpartien. Außerdem verbessern die dynamischen Übungen deine Ausdauer.
URL:http://www.art-of-fitness.de/kurse/jumping-2/2024-08-18/
LOCATION:Art of Fitness GmbH\, Maarweg 149-161\, Köln\, Deutschland\, 50825\, Deutschland
END:VEVENT
BEGIN:VEVENT
DTSTART;TZID=Europe/Berlin:20240819T180000
DTEND;TZID=Europe/Berlin:20240819T190000
DTSTAMP:20260422T132027
CREATED:20231109T104911Z
LAST-MODIFIED:20231109T110719Z
UID:10001872-1724090400-1724094000@www.art-of-fitness.de
SUMMARY:Body Workout
DESCRIPTION:ist ein Training für Bauch\, Oberschenkel und Po und andere Muskelgruppen. Trainingsziel ist eine intensive Kräftigung und Straffung.
URL:http://www.art-of-fitness.de/kurse/iron-workout-2/2024-08-19/
LOCATION:Art of Fitness GmbH\, Maarweg 149-161\, Köln\, Deutschland\, 50825\, Deutschland
END:VEVENT
BEGIN:VEVENT
DTSTART;TZID=Europe/Berlin:20240819T190000
DTEND;TZID=Europe/Berlin:20240819T200000
DTSTAMP:20260422T132027
CREATED:20231109T110059Z
LAST-MODIFIED:20231109T110059Z
UID:10002399-1724094000-1724097600@www.art-of-fitness.de
SUMMARY:Yoga Balance
DESCRIPTION:ist eine Wohltat für Körper\, Geist und Seele mit einfachen Dehnübungen\, Bewegungen und Posen. Du kräftigst deinen gesamten Körper und verlässt den Kurs entspannt\, ausgeglichen und glücklich.
URL:http://www.art-of-fitness.de/kurse/yoga-balance-2/2024-08-19/
LOCATION:Art of Fitness GmbH\, Maarweg 149-161\, Köln\, Deutschland\, 50825\, Deutschland
END:VEVENT
BEGIN:VEVENT
DTSTART;TZID=Europe/Berlin:20240820T183000
DTEND;TZID=Europe/Berlin:20240820T190000
DTSTAMP:20260422T132027
CREATED:20231109T130905Z
LAST-MODIFIED:20241113T134731Z
UID:10006475-1724178600-1724180400@www.art-of-fitness.de
SUMMARY:Bauchkiller
DESCRIPTION:ist ein spezielles Training zum Aktivieren und Stärken der tiefliegenden Core Muskeln – Ebenso der Rücken-\, und der Beckenbodenmuskulatur.
URL:http://www.art-of-fitness.de/kurse/bauchkiller/2024-08-20/
LOCATION:Art of Fitness GmbH\, Maarweg 149-161\, Köln\, Deutschland\, 50825\, Deutschland
END:VEVENT
BEGIN:VEVENT
DTSTART;TZID=Europe/Berlin:20240821T180000
DTEND;TZID=Europe/Berlin:20240821T190000
DTSTAMP:20260422T132027
CREATED:20231107T120358Z
LAST-MODIFIED:20241113T133834Z
UID:10006163-1724263200-1724266800@www.art-of-fitness.de
SUMMARY:Functional Kurs
DESCRIPTION:
URL:http://www.art-of-fitness.de/kurse/functional-kurs/2024-08-21/
END:VEVENT
BEGIN:VEVENT
DTSTART;TZID=Europe/Berlin:20240821T190000
DTEND;TZID=Europe/Berlin:20240821T193000
DTSTAMP:20260422T132027
CREATED:20231107T114932Z
LAST-MODIFIED:20250806T121830Z
UID:10007314-1724266800-1724268600@www.art-of-fitness.de
SUMMARY:Bauchkiller
DESCRIPTION:ist ein spezielles Training zum Aktivieren und Stärken der tiefliegenden Core Muskeln – Ebenso der Rücken-\, und der Beckenbodenmuskulatur.
URL:http://www.art-of-fitness.de/kurse/jumping/2024-08-21/
LOCATION:Art of Fitness GmbH\, Maarweg 149-161\, Köln\, Deutschland\, 50825\, Deutschland
END:VEVENT
END:VCALENDAR